BEGIN:VCALENDAR
VERSION:2.0
PRODID:-//Society for Basic Urologic Research - ECPv6.15.20//NONSGML v1.0//EN
CALSCALE:GREGORIAN
METHOD:PUBLISH
X-ORIGINAL-URL:https://sbur.org
X-WR-CALDESC:Events for Society for Basic Urologic Research
REFRESH-INTERVAL;VALUE=DURATION:PT1H
X-Robots-Tag:noindex
X-PUBLISHED-TTL:PT1H
BEGIN:VTIMEZONE
TZID:UTC
BEGIN:STANDARD
TZOFFSETFROM:+0000
TZOFFSETTO:+0000
TZNAME:UTC
DTSTART:20210101T000000
END:STANDARD
END:VTIMEZONE
BEGIN:VEVENT
DTSTART;VALUE=DATE:20241114
DTEND;VALUE=DATE:20241118
DTSTAMP:20260422T153442
CREATED:20240207T210030Z
LAST-MODIFIED:20240207T210153Z
UID:216051-1731542400-1731887999@sbur.org
SUMMARY:2024 Annual Meeting
DESCRIPTION:
URL:https://sbur.org/event/2024-annual-meeting/
LOCATION:Scottsdale Plaza Hotel\, 7200 N Scottsdale Rd\, Paradise Valley\, AZ\, 85253\, United States
END:VEVENT
BEGIN:VEVENT
DTSTART;TZID=UTC:20221110T080000
DTEND;TZID=UTC:20221113T120000
DTSTAMP:20260422T153442
CREATED:20220921T154948Z
LAST-MODIFIED:20220923T192142Z
UID:54411-1668067200-1668340800@sbur.org
SUMMARY:2022 SBUR Annual Meeting
DESCRIPTION:JW Marriott Orlando\, Grande Lakes\n4040 Central Florida Pkwy\nOrlando\, FL 32837 \nVisit Hotel Website >> \nWe are excited to see all of you in-person in Orlando\, FL at the JW Marriott Grande Lake Resort!
URL:https://sbur.org/event/2022-sbur-annual-meeting/
LOCATION:AZ
END:VEVENT
END:VCALENDAR